BEGIN:VCALENDAR
VERSION:2.0
PRODID:-//Silver Creek Golf &amp; RV Resort - ECPv6.15.20//NONSGML v1.0//EN
CALSCALE:GREGORIAN
METHOD:PUBLISH
X-WR-CALNAME:Silver Creek Golf &amp; RV Resort
X-ORIGINAL-URL:https://silvercreekgolfcourse.com
X-WR-CALDESC:Events for Silver Creek Golf &amp; RV Resort
REFRESH-INTERVAL;VALUE=DURATION:PT1H
X-Robots-Tag:noindex
X-PUBLISHED-TTL:PT1H
BEGIN:VTIMEZONE
TZID:America/Edmonton
BEGIN:DAYLIGHT
TZOFFSETFROM:-0700
TZOFFSETTO:-0600
TZNAME:MDT
DTSTART:20170312T090000
END:DAYLIGHT
BEGIN:STANDARD
TZOFFSETFROM:-0600
TZOFFSETTO:-0700
TZNAME:MST
DTSTART:20171105T080000
END:STANDARD
BEGIN:DAYLIGHT
TZOFFSETFROM:-0700
TZOFFSETTO:-0600
TZNAME:MDT
DTSTART:20180311T090000
END:DAYLIGHT
BEGIN:STANDARD
TZOFFSETFROM:-0600
TZOFFSETTO:-0700
TZNAME:MST
DTSTART:20181104T080000
END:STANDARD
BEGIN:DAYLIGHT
TZOFFSETFROM:-0700
TZOFFSETTO:-0600
TZNAME:MDT
DTSTART:20190310T090000
END:DAYLIGHT
BEGIN:STANDARD
TZOFFSETFROM:-0600
TZOFFSETTO:-0700
TZNAME:MST
DTSTART:20191103T080000
END:STANDARD
END:VTIMEZONE
BEGIN:VEVENT
DTSTART;TZID=America/Edmonton:20180619T180000
DTEND;TZID=America/Edmonton:20180619T220000
DTSTAMP:20260423T111139
CREATED:20180420T163110Z
LAST-MODIFIED:20180420T163110Z
UID:3051-1529431200-1529445600@silvercreekgolfcourse.com
SUMMARY:Ladies Night
DESCRIPTION:Registration Starting at 6pm \nShot Gun Start at 6:30pm \nCome out and enjoy a 9 Hole Round of golf. Open to members and public players\, hole prizes and door prizes! \nWalking Rate: $20.00 per person \nRate with Cart: $30.00 per person \nWeekly Registration Fee: $5.00
URL:https://silvercreekgolfcourse.com/event/ladies-night-7/
END:VEVENT
BEGIN:VEVENT
DTSTART;TZID=America/Edmonton:20180619T130000
DTEND;TZID=America/Edmonton:20180619T170000
DTSTAMP:20260423T111139
CREATED:20180420T164804Z
LAST-MODIFIED:20180420T165020Z
UID:3077-1529413200-1529427600@silvercreekgolfcourse.com
SUMMARY:Cargill Customer Appreciation
DESCRIPTION:9 Hole Shotgun \n80+ Golfers
URL:https://silvercreekgolfcourse.com/event/cargill-customer-appreciation/
END:VEVENT
BEGIN:VEVENT
DTSTART;TZID=America/Edmonton:20180615T180000
DTEND;TZID=America/Edmonton:20180615T220000
DTSTAMP:20260423T111139
CREATED:20180423T212741Z
LAST-MODIFIED:20180423T212741Z
UID:3134-1529085600-1529100000@silvercreekgolfcourse.com
SUMMARY:Friday Night Fun Night
DESCRIPTION:Registration Starting at 6pm \nShot Gun Start at 7:00pm \nCome out and enjoy a 9 Hole Round of golf. Open to members and public players\, hole prizes and door prizes! \nWalking Rate: $20.00 per person \nRate with Cart: $30.00 per person \nWeekly Registration Fee: $5.00
URL:https://silvercreekgolfcourse.com/event/friday-night-fun-night-6/
END:VEVENT
BEGIN:VEVENT
DTSTART;TZID=America/Edmonton:20180615T123000
DTEND;TZID=America/Edmonton:20180615T170000
DTSTAMP:20260423T111139
CREATED:20180608T173159Z
LAST-MODIFIED:20180608T173159Z
UID:3229-1529065800-1529082000@silvercreekgolfcourse.com
SUMMARY:EMCO - Golf Tournament
DESCRIPTION:12:30 – Shotgun Tournament \n100 people \nNorth- South
URL:https://silvercreekgolfcourse.com/event/emco-golf-tournament/
END:VEVENT
BEGIN:VEVENT
DTSTART;TZID=America/Edmonton:20180613T180000
DTEND;TZID=America/Edmonton:20180613T220000
DTSTAMP:20260423T111139
CREATED:20180420T162758Z
LAST-MODIFIED:20180420T162758Z
UID:3041-1528912800-1528927200@silvercreekgolfcourse.com
SUMMARY:Men's Night
DESCRIPTION:Registration Starting at 6pm \nShot Gun Start at 6:30pm \nCome out and enjoy a 9 Hole Round of golf. Open to members and public players\, hole prizes and door prizes! \nWalking Rate: $20.00 per person \nRate with Cart: $30.00 per person \nWeekly Registration Fee: $10.00
URL:https://silvercreekgolfcourse.com/event/mens-night-6/
END:VEVENT
BEGIN:VEVENT
DTSTART;TZID=America/Edmonton:20180613T090000
DTEND;TZID=America/Edmonton:20180613T120000
DTSTAMP:20260423T111139
CREATED:20180420T163830Z
LAST-MODIFIED:20180420T163830Z
UID:3059-1528880400-1528891200@silvercreekgolfcourse.com
SUMMARY:Senior's Morning
DESCRIPTION:Registration Starting at 9:00am \nShot Gun Start at 9:30am \nCome out and enjoy a 9 Hole Round of golf. Open to members and public players\, hole prizes and door prizes! \nWalking Rate: $20.00 per person \nRate with Cart: $30.00 per person \nWeekly Registration Fee: $5.00
URL:https://silvercreekgolfcourse.com/event/seniors-morning-6/
END:VEVENT
BEGIN:VEVENT
DTSTART;TZID=America/Edmonton:20180612T180000
DTEND;TZID=America/Edmonton:20180612T220000
DTSTAMP:20260423T111139
CREATED:20180420T163040Z
LAST-MODIFIED:20180420T163040Z
UID:3049-1528826400-1528840800@silvercreekgolfcourse.com
SUMMARY:Ladies Night
DESCRIPTION:Registration Starting at 6pm \nShot Gun Start at 6:30pm \nCome out and enjoy a 9 Hole Round of golf. Open to members and public players\, hole prizes and door prizes! \nWalking Rate: $20.00 per person \nRate with Cart: $30.00 per person \nWeekly Registration Fee: $5.00
URL:https://silvercreekgolfcourse.com/event/ladies-night-6/
END:VEVENT
BEGIN:VEVENT
DTSTART;TZID=America/Edmonton:20180612T170000
DTEND;TZID=America/Edmonton:20180612T200000
DTSTAMP:20260423T111139
CREATED:20180420T164708Z
LAST-MODIFIED:20180420T165046Z
UID:3075-1528822800-1528833600@silvercreekgolfcourse.com
SUMMARY:FCC
DESCRIPTION:9 Hole Modified Shotgun \n40+ Golfers
URL:https://silvercreekgolfcourse.com/event/fcc/
END:VEVENT
BEGIN:VEVENT
DTSTART;TZID=America/Edmonton:20180609T110000
DTEND;TZID=America/Edmonton:20180609T120000
DTSTAMP:20260423T111139
CREATED:20180420T164614Z
LAST-MODIFIED:20180420T165101Z
UID:3073-1528542000-1528545600@silvercreekgolfcourse.com
SUMMARY:Millwoods Church
DESCRIPTION:40+ Golfers
URL:https://silvercreekgolfcourse.com/event/millwoods-church/
END:VEVENT
BEGIN:VEVENT
DTSTART;TZID=America/Edmonton:20180608T180000
DTEND;TZID=America/Edmonton:20180608T220000
DTSTAMP:20260423T111139
CREATED:20180423T212511Z
LAST-MODIFIED:20180423T212511Z
UID:3132-1528480800-1528495200@silvercreekgolfcourse.com
SUMMARY:Friday Night Fun Night
DESCRIPTION:Registration Starting at 6pm \nShot Gun Start at 7:00pm \nCome out and enjoy a 9 Hole Round of golf. Open to members and public players\, hole prizes and door prizes! \nWalking Rate: $20.00 per person \nRate with Cart: $30.00 per person \nWeekly Registration Fee: $5.00
URL:https://silvercreekgolfcourse.com/event/friday-night-fun-night-5/
END:VEVENT
BEGIN:VEVENT
DTSTART;TZID=America/Edmonton:20180606T180000
DTEND;TZID=America/Edmonton:20180606T220000
DTSTAMP:20260423T111139
CREATED:20180420T162720Z
LAST-MODIFIED:20180420T162720Z
UID:3039-1528308000-1528322400@silvercreekgolfcourse.com
SUMMARY:Men's Night
DESCRIPTION:Registration Starting at 6pm \nShot Gun Start at 6:30pm \nCome out and enjoy a 9 Hole Round of golf. Open to members and public players\, hole prizes and door prizes! \nWalking Rate: $20.00 per person \nRate with Cart: $30.00 per person \nWeekly Registration Fee: $10.00
URL:https://silvercreekgolfcourse.com/event/mens-night-5/
END:VEVENT
BEGIN:VEVENT
DTSTART;TZID=America/Edmonton:20180606T090000
DTEND;TZID=America/Edmonton:20180606T120000
DTSTAMP:20260423T111139
CREATED:20180420T163236Z
LAST-MODIFIED:20180420T163236Z
UID:3055-1528275600-1528286400@silvercreekgolfcourse.com
SUMMARY:Senior's Morning
DESCRIPTION:Registration Starting at 9:00am \nShot Gun Start at 9:30am \nCome out and enjoy a 9 Hole Round of golf. Open to members and public players\, hole prizes and door prizes! \nWalking Rate: $20.00 per person \nRate with Cart: $30.00 per person \nWeekly Registration Fee: $5.00
URL:https://silvercreekgolfcourse.com/event/seniors-morning-4/
END:VEVENT
BEGIN:VEVENT
DTSTART;TZID=America/Edmonton:20180605T180000
DTEND;TZID=America/Edmonton:20180605T220000
DTSTAMP:20260423T111139
CREATED:20180420T163005Z
LAST-MODIFIED:20180420T163005Z
UID:3047-1528221600-1528236000@silvercreekgolfcourse.com
SUMMARY:Ladies Night
DESCRIPTION:Registration Starting at 6pm \nShot Gun Start at 6:30pm \nCome out and enjoy a 9 Hole Round of golf. Open to members and public players\, hole prizes and door prizes! \nWalking Rate: $20.00 per person \nRate with Cart: $30.00 per person \nWeekly Registration Fee: $5.00
URL:https://silvercreekgolfcourse.com/event/ladies-night-5/
END:VEVENT
BEGIN:VEVENT
DTSTART;TZID=America/Edmonton:20180604T080000
DTEND;TZID=America/Edmonton:20180604T170000
DTSTAMP:20260423T111139
CREATED:20180420T164451Z
LAST-MODIFIED:20180420T164521Z
UID:3070-1528099200-1528131600@silvercreekgolfcourse.com
SUMMARY:NASA - Men
DESCRIPTION:18 Hole Double Crossover at 8:30am \n18 Hole Double Crossover at 1:00pm
URL:https://silvercreekgolfcourse.com/event/nasa-men/
END:VEVENT
BEGIN:VEVENT
DTSTART;TZID=America/Edmonton:20180603T090000
DTEND;TZID=America/Edmonton:20180603T100000
DTSTAMP:20260423T111139
CREATED:20180420T164351Z
LAST-MODIFIED:20180420T165137Z
UID:3068-1528016400-1528020000@silvercreekgolfcourse.com
SUMMARY:BRC
DESCRIPTION:32 Golfers
URL:https://silvercreekgolfcourse.com/event/brc-3/
END:VEVENT
BEGIN:VEVENT
DTSTART;TZID=America/Edmonton:20180602T090000
DTEND;TZID=America/Edmonton:20180602T153000
DTSTAMP:20260423T111139
CREATED:20180420T164240Z
LAST-MODIFIED:20180420T165157Z
UID:3065-1527930000-1527953400@silvercreekgolfcourse.com
SUMMARY:BRC
DESCRIPTION:32 Golfers \n  \n 
URL:https://silvercreekgolfcourse.com/event/brc-2/
END:VEVENT
BEGIN:VEVENT
DTSTART;TZID=America/Edmonton:20180601T180000
DTEND;TZID=America/Edmonton:20180601T220000
DTSTAMP:20260423T111139
CREATED:20180423T212352Z
LAST-MODIFIED:20180423T212352Z
UID:3130-1527876000-1527890400@silvercreekgolfcourse.com
SUMMARY:Friday Night Fun Night
DESCRIPTION:Registration Starting at 6pm \nShot Gun Start at 7:00pm \nCome out and enjoy a 9 Hole Round of golf. Open to members and public players\, hole prizes and door prizes! \nWalking Rate: $20.00 per person \nRate with Cart: $30.00 per person \nWeekly Registration Fee: $5.00
URL:https://silvercreekgolfcourse.com/event/friday-night-fun-night-4/
END:VEVENT
BEGIN:VEVENT
DTSTART;TZID=America/Edmonton:20180601T150000
DTEND;TZID=America/Edmonton:20180601T160000
DTSTAMP:20260423T111139
CREATED:20180420T164037Z
LAST-MODIFIED:20180420T165211Z
UID:3063-1527865200-1527868800@silvercreekgolfcourse.com
SUMMARY:BRC
DESCRIPTION:32 Golfers
URL:https://silvercreekgolfcourse.com/event/brc/
END:VEVENT
BEGIN:VEVENT
DTSTART;TZID=America/Edmonton:20180530T180000
DTEND;TZID=America/Edmonton:20180530T220000
DTSTAMP:20260423T111139
CREATED:20180420T160918Z
LAST-MODIFIED:20180420T160918Z
UID:3015-1527703200-1527717600@silvercreekgolfcourse.com
SUMMARY:Men's Night
DESCRIPTION:Steak Night – Must Preregister for a meal ticket \nRegistration Starting at 6pm \nShot Gun Start at 6:30pm \nCome out and enjoy a 9 Hole Round of golf. Open to members and public players\, hole prizes and door prizes! \nWalking Rate: $20.00 per person \nRate with Cart: $30.00 per person \nWeekly Registration Fee: $10.00
URL:https://silvercreekgolfcourse.com/event/mens-night-4/
END:VEVENT
BEGIN:VEVENT
DTSTART;TZID=America/Edmonton:20180530T090000
DTEND;TZID=America/Edmonton:20180530T120000
DTSTAMP:20260423T111139
CREATED:20180420T161928Z
LAST-MODIFIED:20180420T161928Z
UID:3030-1527670800-1527681600@silvercreekgolfcourse.com
SUMMARY:Senior's Morning
DESCRIPTION:Registration Starting at 9:00am \nShot Gun Start at 9:30am \nCome out and enjoy a 9 Hole Round of golf. Open to members and public players\, hole prizes and door prizes! \nWalking Rate: $20.00 per person \nRate with Cart: $30.00 per person \nWeekly Registration Fee: $5.00
URL:https://silvercreekgolfcourse.com/event/seniors-morning-3/
END:VEVENT
BEGIN:VEVENT
DTSTART;TZID=America/Edmonton:20180529T180000
DTEND;TZID=America/Edmonton:20180529T220000
DTSTAMP:20260423T111139
CREATED:20180420T161219Z
LAST-MODIFIED:20180420T161219Z
UID:3022-1527616800-1527631200@silvercreekgolfcourse.com
SUMMARY:Ladies Night
DESCRIPTION:Registration Starting at 6pm \nShot Gun Start at 6:30pm \nCome out and enjoy a 9 Hole Round of golf. Open to members and public players\, hole prizes and door prizes! \nWalking Rate: $20.00 per person \nRate with Cart: $30.00 per person \nWeekly Registration Fee: $5.00
URL:https://silvercreekgolfcourse.com/event/ladies-night-4/
END:VEVENT
BEGIN:VEVENT
DTSTART;TZID=America/Edmonton:20180526T100000
DTEND;TZID=America/Edmonton:20180526T130000
DTSTAMP:20260423T111139
CREATED:20180420T162445Z
LAST-MODIFIED:20180420T165228Z
UID:3036-1527328800-1527339600@silvercreekgolfcourse.com
SUMMARY:Ken & Dot
DESCRIPTION:9 Hole Shot Gun \n40+ Golfers
URL:https://silvercreekgolfcourse.com/event/ken-dot/
END:VEVENT
BEGIN:VEVENT
DTSTART;TZID=America/Edmonton:20180525T180000
DTEND;TZID=America/Edmonton:20180525T220000
DTSTAMP:20260423T111139
CREATED:20180423T212246Z
LAST-MODIFIED:20180423T212246Z
UID:3128-1527271200-1527285600@silvercreekgolfcourse.com
SUMMARY:Friday Night Fun Night
DESCRIPTION:Registration Starting at 6pm \nShot Gun Start at 7:00pm \nCome out and enjoy a 9 Hole Round of golf. Open to members and public players\, hole prizes and door prizes! \nWalking Rate: $20.00 per person \nRate with Cart: $30.00 per person \nWeekly Registration Fee: $5.00
URL:https://silvercreekgolfcourse.com/event/friday-night-fun-night-3/
END:VEVENT
BEGIN:VEVENT
DTSTART;TZID=America/Edmonton:20180523T180000
DTEND;TZID=America/Edmonton:20180523T220000
DTSTAMP:20260423T111139
CREATED:20180420T160750Z
LAST-MODIFIED:20180420T160750Z
UID:3013-1527098400-1527112800@silvercreekgolfcourse.com
SUMMARY:Men's Night
DESCRIPTION:Registration Starting at 6pm \nShot Gun Start at 6:30pm \nCome out and enjoy a 9 Hole Round of golf. Open to members and public players\, hole prizes and door prizes! \nWalking Rate: $20.00 per person \nRate with Cart: $30.00 per person \nWeekly Registration Fee: $10.00
URL:https://silvercreekgolfcourse.com/event/mens-night-3/
END:VEVENT
BEGIN:VEVENT
DTSTART;TZID=America/Edmonton:20180523T090000
DTEND;TZID=America/Edmonton:20180523T120000
DTSTAMP:20260423T111139
CREATED:20180420T161837Z
LAST-MODIFIED:20180420T161837Z
UID:3028-1527066000-1527076800@silvercreekgolfcourse.com
SUMMARY:Senior's Morning
DESCRIPTION:Registration Starting at 9:00am \nShot Gun Start at 9:30am \nCome out and enjoy a 9 Hole Round of golf. Open to members and public players\, hole prizes and door prizes! \nWalking Rate: $20.00 per person \nRate with Cart: $30.00 per person \nWeekly Registration Fee: $5.00
URL:https://silvercreekgolfcourse.com/event/seniors-morning-2/
END:VEVENT
BEGIN:VEVENT
DTSTART;TZID=America/Edmonton:20180522T180000
DTEND;TZID=America/Edmonton:20180522T220000
DTSTAMP:20260423T111139
CREATED:20180420T161145Z
LAST-MODIFIED:20180420T161145Z
UID:3020-1527012000-1527026400@silvercreekgolfcourse.com
SUMMARY:Ladies Night
DESCRIPTION:Registration Starting at 6pm \nShot Gun Start at 6:30pm \nCome out and enjoy a 9 Hole Round of golf. Open to members and public players\, hole prizes and door prizes! \nWalking Rate: $20.00 per person \nRate with Cart: $30.00 per person \nWeekly Registration Fee: $5.00
URL:https://silvercreekgolfcourse.com/event/ladies-night-3/
END:VEVENT
BEGIN:VEVENT
DTSTART;TZID=America/Edmonton:20180518T180000
DTEND;TZID=America/Edmonton:20180518T220000
DTSTAMP:20260423T111139
CREATED:20180423T212218Z
LAST-MODIFIED:20180423T212218Z
UID:3122-1526666400-1526680800@silvercreekgolfcourse.com
SUMMARY:Friday Night Fun Night
DESCRIPTION:Registration Starting at 6pm \nShot Gun Start at 7:00pm \nCome out and enjoy a 9 Hole Round of golf. Open to members and public players\, hole prizes and door prizes! \nWalking Rate: $20.00 per person \nRate with Cart: $30.00 per person \nWeekly Registration Fee: $5.00
URL:https://silvercreekgolfcourse.com/event/friday-night-fun-night-2/
END:VEVENT
BEGIN:VEVENT
DTSTART;TZID=America/Edmonton:20180517T100000
DTEND;TZID=America/Edmonton:20180517T150000
DTSTAMP:20260423T111139
CREATED:20180420T162334Z
LAST-MODIFIED:20180420T165303Z
UID:3034-1526551200-1526569200@silvercreekgolfcourse.com
SUMMARY:Lone Prairie Camp
DESCRIPTION:9 Hole Shotgun \n36 Golfers \n 
URL:https://silvercreekgolfcourse.com/event/lone-prairie-camp/
END:VEVENT
BEGIN:VEVENT
DTSTART;TZID=America/Edmonton:20180516T180000
DTEND;TZID=America/Edmonton:20180516T220000
DTSTAMP:20260423T111139
CREATED:20180420T160632Z
LAST-MODIFIED:20180420T160704Z
UID:3010-1526493600-1526508000@silvercreekgolfcourse.com
SUMMARY:Men's Night
DESCRIPTION:Registration Starting at 6pm \nShot Gun Start at 6:30pm \nCome out and enjoy a 9 Hole Round of golf. Open to members and public players\, hole prizes and door prizes! \nWalking Rate: $20.00 per person \nRate with Cart: $30.00 per person \nWeekly Registration Fee: $10.00
URL:https://silvercreekgolfcourse.com/event/mens-night-2/
END:VEVENT
BEGIN:VEVENT
DTSTART;TZID=America/Edmonton:20180516T090000
DTEND;TZID=America/Edmonton:20180516T120000
DTSTAMP:20260423T111139
CREATED:20180420T161751Z
LAST-MODIFIED:20180420T161751Z
UID:3026-1526461200-1526472000@silvercreekgolfcourse.com
SUMMARY:Senior's Morning
DESCRIPTION:Registration Starting at 9:00am \nShot Gun Start at 9:30am \nCome out and enjoy a 9 Hole Round of golf. Open to members and public players\, hole prizes and door prizes! \nWalking Rate: $20.00 per person \nRate with Cart: $30.00 per person \nWeekly Registration Fee: $5.00
URL:https://silvercreekgolfcourse.com/event/seniors-morning/
END:VEVENT
END:VCALENDAR