BEGIN:VCALENDAR
VERSION:2.0
PRODID:-//Silver Creek Golf &amp; RV Resort - ECPv6.15.20//NONSGML v1.0//EN
CALSCALE:GREGORIAN
METHOD:PUBLISH
X-WR-CALNAME:Silver Creek Golf &amp; RV Resort
X-ORIGINAL-URL:https://silvercreekgolfcourse.com
X-WR-CALDESC:Events for Silver Creek Golf &amp; RV Resort
REFRESH-INTERVAL;VALUE=DURATION:PT1H
X-Robots-Tag:noindex
X-PUBLISHED-TTL:PT1H
BEGIN:VTIMEZONE
TZID:America/Edmonton
BEGIN:DAYLIGHT
TZOFFSETFROM:-0700
TZOFFSETTO:-0600
TZNAME:MDT
DTSTART:20230312T090000
END:DAYLIGHT
BEGIN:STANDARD
TZOFFSETFROM:-0600
TZOFFSETTO:-0700
TZNAME:MST
DTSTART:20231105T080000
END:STANDARD
BEGIN:DAYLIGHT
TZOFFSETFROM:-0700
TZOFFSETTO:-0600
TZNAME:MDT
DTSTART:20240310T090000
END:DAYLIGHT
BEGIN:STANDARD
TZOFFSETFROM:-0600
TZOFFSETTO:-0700
TZNAME:MST
DTSTART:20241103T080000
END:STANDARD
BEGIN:DAYLIGHT
TZOFFSETFROM:-0700
TZOFFSETTO:-0600
TZNAME:MDT
DTSTART:20250309T090000
END:DAYLIGHT
BEGIN:STANDARD
TZOFFSETFROM:-0600
TZOFFSETTO:-0700
TZNAME:MST
DTSTART:20251102T080000
END:STANDARD
END:VTIMEZONE
BEGIN:VEVENT
DTSTART;TZID=America/Edmonton:20240911T180000
DTEND;TZID=America/Edmonton:20240911T210000
DTSTAMP:20260421T195226
CREATED:20240216T173608Z
LAST-MODIFIED:20240216T173608Z
UID:5430-1726077600-1726088400@silvercreekgolfcourse.com
SUMMARY:Ladies Night
DESCRIPTION:Registration Starting at 6pm \nShot Gun Start at 6:30pm \nCome out and enjoy a 9 Hole Round of golf. Open to members and public players\, hole prizes and door prizes! \nWalking Rate: $20.00 per person \nRate with Cart: $30.00 per person \nWeekly Registration Fee: $10.00
URL:https://silvercreekgolfcourse.com/event/ladies-night-49/
END:VEVENT
BEGIN:VEVENT
DTSTART;TZID=America/Edmonton:20240912T180000
DTEND;TZID=America/Edmonton:20240912T210000
DTSTAMP:20260421T195226
CREATED:20240216T171219Z
LAST-MODIFIED:20240216T171219Z
UID:5367-1726164000-1726174800@silvercreekgolfcourse.com
SUMMARY:Men's Night
DESCRIPTION:Registration Starting at 6pm \nShot Gun Start at 6:30pm \nCome out and enjoy a 9 Hole Round of golf. Open to members and public players\, hole prizes and door prizes! \nWalking Rate: $20.00 per person \nRate with Cart: $30.00 per person \nWeekly Registration Fee: $10.0
URL:https://silvercreekgolfcourse.com/event/mens-night-49/
END:VEVENT
BEGIN:VEVENT
DTSTART;TZID=America/Edmonton:20240913T180000
DTEND;TZID=America/Edmonton:20240913T210000
DTSTAMP:20260421T195226
CREATED:20240216T172626Z
LAST-MODIFIED:20240216T172626Z
UID:5399-1726250400-1726261200@silvercreekgolfcourse.com
SUMMARY:Friday Night Fun Night
DESCRIPTION:Registration Starting at 5pm \nShot Gun Start at 6:00pm \nCome out and enjoy a 9 Hole Round of golf. Open to members and public players\, hole prizes and door prizes! \nWalking Rate: $20.00 per person \nRate with Cart: $30.00 per person \nWeekly Registration Fee: $5.00
URL:https://silvercreekgolfcourse.com/event/friday-night-fun-night-50/
END:VEVENT
BEGIN:VEVENT
DTSTART;TZID=America/Edmonton:20240919T180000
DTEND;TZID=America/Edmonton:20240919T210000
DTSTAMP:20260421T195226
CREATED:20240216T171252Z
LAST-MODIFIED:20240216T171252Z
UID:5369-1726768800-1726779600@silvercreekgolfcourse.com
SUMMARY:Men's Night
DESCRIPTION:Registration Starting at 6pm \nShot Gun Start at 6:30pm \nCome out and enjoy a 9 Hole Round of golf. Open to members and public players\, hole prizes and door prizes! \nWalking Rate: $20.00 per person \nRate with Cart: $30.00 per person \nWeekly Registration Fee: $10.0
URL:https://silvercreekgolfcourse.com/event/mens-night-50/
END:VEVENT
BEGIN:VEVENT
DTSTART;VALUE=DATE:20240921
DTEND;VALUE=DATE:20240922
DTSTAMP:20260421T195226
CREATED:20240216T163830Z
LAST-MODIFIED:20240216T163830Z
UID:5305-1726876800-1726963199@silvercreekgolfcourse.com
SUMMARY:Silver Creek Member's Tournament
DESCRIPTION:More Details to Come….
URL:https://silvercreekgolfcourse.com/event/silver-creek-members-tournament/
END:VEVENT
END:VCALENDAR