BEGIN:VCALENDAR
VERSION:2.0
PRODID:-//Silver Creek Golf &amp; RV Resort - ECPv6.15.20//NONSGML v1.0//EN
CALSCALE:GREGORIAN
METHOD:PUBLISH
X-WR-CALNAME:Silver Creek Golf &amp; RV Resort
X-ORIGINAL-URL:https://silvercreekgolfcourse.com
X-WR-CALDESC:Events for Silver Creek Golf &amp; RV Resort
REFRESH-INTERVAL;VALUE=DURATION:PT1H
X-Robots-Tag:noindex
X-PUBLISHED-TTL:PT1H
BEGIN:VTIMEZONE
TZID:America/Edmonton
BEGIN:DAYLIGHT
TZOFFSETFROM:-0700
TZOFFSETTO:-0600
TZNAME:MDT
DTSTART:20170312T090000
END:DAYLIGHT
BEGIN:STANDARD
TZOFFSETFROM:-0600
TZOFFSETTO:-0700
TZNAME:MST
DTSTART:20171105T080000
END:STANDARD
BEGIN:DAYLIGHT
TZOFFSETFROM:-0700
TZOFFSETTO:-0600
TZNAME:MDT
DTSTART:20180311T090000
END:DAYLIGHT
BEGIN:STANDARD
TZOFFSETFROM:-0600
TZOFFSETTO:-0700
TZNAME:MST
DTSTART:20181104T080000
END:STANDARD
BEGIN:DAYLIGHT
TZOFFSETFROM:-0700
TZOFFSETTO:-0600
TZNAME:MDT
DTSTART:20190310T090000
END:DAYLIGHT
BEGIN:STANDARD
TZOFFSETFROM:-0600
TZOFFSETTO:-0700
TZNAME:MST
DTSTART:20191103T080000
END:STANDARD
END:VTIMEZONE
BEGIN:VEVENT
DTSTART;TZID=America/Edmonton:20180808T090000
DTEND;TZID=America/Edmonton:20180808T120000
DTSTAMP:20260422T192136
CREATED:20180423T215105Z
LAST-MODIFIED:20180423T215105Z
UID:3178-1533718800-1533729600@silvercreekgolfcourse.com
SUMMARY:Seniors Morning
DESCRIPTION:Registration Starting at 9:00am \nShot Gun Start at 9:30am \nCome out and enjoy a 9 Hole Round of golf. Open to members and public players\, hole prizes and door prizes! \nWalking Rate: $20.00 per person \nRate with Cart: $30.00 per person \nWeekly Registration Fee: $5 .00
URL:https://silvercreekgolfcourse.com/event/seniors-morning-13/
END:VEVENT
BEGIN:VEVENT
DTSTART;TZID=America/Edmonton:20180807T180000
DTEND;TZID=America/Edmonton:20180807T220000
DTSTAMP:20260422T192136
CREATED:20180423T214012Z
LAST-MODIFIED:20180423T214012Z
UID:3158-1533664800-1533679200@silvercreekgolfcourse.com
SUMMARY:Ladies Night
DESCRIPTION:Registration Starting at 6pm \nShot Gun Start at 6:30pm \nCome out and enjoy a 9 Hole Round of golf. Open to members and public players\, hole prizes and door prizes! \nWalking Rate: $20.00 per person \nRate with Cart: $30.00 per person \nWeekly Registration Fee: $5.00
URL:https://silvercreekgolfcourse.com/event/ladies-night-14/
END:VEVENT
BEGIN:VEVENT
DTSTART;TZID=America/Edmonton:20180803T180000
DTEND;TZID=America/Edmonton:20180803T220000
DTSTAMP:20260422T192136
CREATED:20180423T213539Z
LAST-MODIFIED:20180423T213539Z
UID:3148-1533319200-1533333600@silvercreekgolfcourse.com
SUMMARY:Friday Night Fun Night
DESCRIPTION:Registration Starting at 6pm \nShot Gun Start at 7:00pm \nCome out and enjoy a 9 Hole Round of golf. Open to members and public players\, hole prizes and door prizes! \nWalking Rate: $20.00 per person \nRate with Cart: $30.00 per person \nWeekly Registration Fee: $5.00
URL:https://silvercreekgolfcourse.com/event/friday-night-fun-night-13/
END:VEVENT
BEGIN:VEVENT
DTSTART;TZID=America/Edmonton:20180801T180000
DTEND;TZID=America/Edmonton:20180801T220000
DTSTAMP:20260422T192136
CREATED:20180423T214508Z
LAST-MODIFIED:20180423T214508Z
UID:3166-1533146400-1533160800@silvercreekgolfcourse.com
SUMMARY:Men's Night
DESCRIPTION:Registration Starting at 6pm \nShot Gun Start at 6:30pm \nCome out and enjoy a 9 Hole Round of golf. Open to members and public players\, hole prizes and door prizes! \nWalking Rate: $20.00 per person \nRate with Cart: $30.00 per person \nWeekly Registration Fee: $10.00
URL:https://silvercreekgolfcourse.com/event/mens-night-13/
END:VEVENT
BEGIN:VEVENT
DTSTART;TZID=America/Edmonton:20180801T090000
DTEND;TZID=America/Edmonton:20180801T120000
DTSTAMP:20260422T192136
CREATED:20180423T215031Z
LAST-MODIFIED:20180423T215031Z
UID:3176-1533114000-1533124800@silvercreekgolfcourse.com
SUMMARY:Seniors Morning
DESCRIPTION:Registration Starting at 9:00am \nShot Gun Start at 9:30am \nCome out and enjoy a 9 Hole Round of golf. Open to members and public players\, hole prizes and door prizes! \nWalking Rate: $20.00 per person \nRate with Cart: $30.00 per person \nWeekly Registration Fee: $5 .00
URL:https://silvercreekgolfcourse.com/event/seniors-morning-12/
END:VEVENT
BEGIN:VEVENT
DTSTART;TZID=America/Edmonton:20180731T180000
DTEND;TZID=America/Edmonton:20180731T220000
DTSTAMP:20260422T192136
CREATED:20180420T170215Z
LAST-MODIFIED:20180420T170215Z
UID:3109-1533060000-1533074400@silvercreekgolfcourse.com
SUMMARY:Ladies Night
DESCRIPTION:Registration Starting at 6pm \nShot Gun Start at 6:30pm \nCome out and enjoy a 9 Hole Round of golf. Open to members and public players\, hole prizes and door prizes! \nWalking Rate: $20.00 per person \nRate with Cart: $30.00 per person \nWeekly Registration Fee: $5.00
URL:https://silvercreekgolfcourse.com/event/ladies-night-12/
END:VEVENT
BEGIN:VEVENT
DTSTART;TZID=America/Edmonton:20180727T180000
DTEND;TZID=America/Edmonton:20180727T220000
DTSTAMP:20260422T192136
CREATED:20180423T213128Z
LAST-MODIFIED:20180423T213128Z
UID:3144-1532714400-1532728800@silvercreekgolfcourse.com
SUMMARY:Friday Night Fun Night
DESCRIPTION:Registration Starting at 6pm \nShot Gun Start at 7:00pm \nCome out and enjoy a 9 Hole Round of golf. Open to members and public players\, hole prizes and door prizes! \nWalking Rate: $20.00 per person \nRate with Cart: $30.00 per person \nWeekly Registration Fee: $5.00
URL:https://silvercreekgolfcourse.com/event/friday-night-fun-night-11/
END:VEVENT
BEGIN:VEVENT
DTSTART;TZID=America/Edmonton:20180725T180000
DTEND;TZID=America/Edmonton:20180725T220000
DTSTAMP:20260422T192136
CREATED:20180420T165838Z
LAST-MODIFIED:20180420T165838Z
UID:3100-1532541600-1532556000@silvercreekgolfcourse.com
SUMMARY:Men's Night
DESCRIPTION:Steak Night : You must preregister for a meal ticket \nRegistration Starting at 6pm \nShot Gun Start at 6:30pm \nCome out and enjoy a 9 Hole Round of golf. Open to members and public players\, hole prizes and door prizes! \nWalking Rate: $20.00 per person \nRate with Cart: $30.00 per person \nWeekly Registration Fee: $10.00
URL:https://silvercreekgolfcourse.com/event/mens-night-12/
END:VEVENT
BEGIN:VEVENT
DTSTART;TZID=America/Edmonton:20180725T090000
DTEND;TZID=America/Edmonton:20180725T120000
DTSTAMP:20260422T192136
CREATED:20180420T184627Z
LAST-MODIFIED:20180420T184627Z
UID:3115-1532509200-1532520000@silvercreekgolfcourse.com
SUMMARY:Senior's Morning
DESCRIPTION:Registration Starting at 9:00am \nShot Gun Start at 9:30am \nCome out and enjoy a 9 Hole Round of golf. Open to members and public players\, hole prizes and door prizes! \nWalking Rate: $20.00 per person \nRate with Cart: $30.00 per person \nWeekly Registration Fee: $5 .00
URL:https://silvercreekgolfcourse.com/event/seniors-morning-9/
END:VEVENT
BEGIN:VEVENT
DTSTART;TZID=America/Edmonton:20180724T180000
DTEND;TZID=America/Edmonton:20180724T220000
DTSTAMP:20260422T192136
CREATED:20180420T170249Z
LAST-MODIFIED:20180420T170249Z
UID:3111-1532455200-1532469600@silvercreekgolfcourse.com
SUMMARY:Ladies Night
DESCRIPTION:Registration Starting at 6pm \nShot Gun Start at 6:30pm \nCome out and enjoy a 9 Hole Round of golf. Open to members and public players\, hole prizes and door prizes! \nWalking Rate: $20.00 per person \nRate with Cart: $30.00 per person \nWeekly Registration Fee: $5.00
URL:https://silvercreekgolfcourse.com/event/ladies-night-13/
END:VEVENT
BEGIN:VEVENT
DTSTART;TZID=America/Edmonton:20180721T130000
DTEND;TZID=America/Edmonton:20180721T140000
DTSTAMP:20260422T192136
CREATED:20180713T191115Z
LAST-MODIFIED:20180713T191115Z
UID:3270-1532178000-1532181600@silvercreekgolfcourse.com
SUMMARY:Camrose County
DESCRIPTION:9 Hole Tournament @ 1:00pm \n30+ Golfers \nTee-Times
URL:https://silvercreekgolfcourse.com/event/camrose-county/
END:VEVENT
BEGIN:VEVENT
DTSTART;TZID=America/Edmonton:20180720T180000
DTEND;TZID=America/Edmonton:20180720T220000
DTSTAMP:20260422T192136
CREATED:20180423T213339Z
LAST-MODIFIED:20180423T213339Z
UID:3146-1532109600-1532124000@silvercreekgolfcourse.com
SUMMARY:Friday Night Fun Night
DESCRIPTION:Registration Starting at 6pm \nShot Gun Start at 7:00pm \nCome out and enjoy a 9 Hole Round of golf. Open to members and public players\, hole prizes and door prizes! \nWalking Rate: $20.00 per person \nRate with Cart: $30.00 per person \nWeekly Registration Fee: $5.00
URL:https://silvercreekgolfcourse.com/event/friday-night-fun-night-12/
END:VEVENT
BEGIN:VEVENT
DTSTART;TZID=America/Edmonton:20180718T180000
DTEND;TZID=America/Edmonton:20180718T220000
DTSTAMP:20260422T192136
CREATED:20180420T165753Z
LAST-MODIFIED:20180420T165753Z
UID:3098-1531936800-1531951200@silvercreekgolfcourse.com
SUMMARY:Men's Night
DESCRIPTION:Registration Starting at 6pm \nShot Gun Start at 6:30pm \nCome out and enjoy a 9 Hole Round of golf. Open to members and public players\, hole prizes and door prizes! \nWalking Rate: $20.00 per person \nRate with Cart: $30.00 per person \nWeekly Registration Fee: $10.00
URL:https://silvercreekgolfcourse.com/event/mens-night-11/
END:VEVENT
BEGIN:VEVENT
DTSTART;TZID=America/Edmonton:20180718T090000
DTEND;TZID=America/Edmonton:20180718T120000
DTSTAMP:20260422T192136
CREATED:20180420T184916Z
LAST-MODIFIED:20180420T184916Z
UID:3119-1531904400-1531915200@silvercreekgolfcourse.com
SUMMARY:Senior's Morning
DESCRIPTION:Registration Starting at 9:00am \nShot Gun Start at 9:30am \nCome out and enjoy a 9 Hole Round of golf. Open to members and public players\, hole prizes and door prizes! \nWalking Rate: $20.00 per person \nRate with Cart: $30.00 per person \nWeekly Registration Fee: $5.00
URL:https://silvercreekgolfcourse.com/event/seniors-morning-11/
END:VEVENT
BEGIN:VEVENT
DTSTART;TZID=America/Edmonton:20180717T180000
DTEND;TZID=America/Edmonton:20180717T220000
DTSTAMP:20260422T192136
CREATED:20180420T170143Z
LAST-MODIFIED:20180420T170143Z
UID:3107-1531850400-1531864800@silvercreekgolfcourse.com
SUMMARY:Ladies Night
DESCRIPTION:Registration Starting at 6pm \nShot Gun Start at 6:30pm \nCome out and enjoy a 9 Hole Round of golf. Open to members and public players\, hole prizes and door prizes! \nWalking Rate: $20.00 per person \nRate with Cart: $30.00 per person \nWeekly Registration Fee: $5.00
URL:https://silvercreekgolfcourse.com/event/ladies-night-11/
END:VEVENT
BEGIN:VEVENT
DTSTART;TZID=America/Edmonton:20180714T090000
DTEND;TZID=America/Edmonton:20180714T160000
DTSTAMP:20260422T192136
CREATED:20180420T165445Z
LAST-MODIFIED:20180420T165901Z
UID:3092-1531558800-1531584000@silvercreekgolfcourse.com
SUMMARY:Camrose Canadian Brewhouse
DESCRIPTION:18 Hole Shotgun Tournament \n144+ Golfers
URL:https://silvercreekgolfcourse.com/event/camrose-canadian-brewhous/
END:VEVENT
BEGIN:VEVENT
DTSTART;TZID=America/Edmonton:20180713T180000
DTEND;TZID=America/Edmonton:20180713T220000
DTSTAMP:20260422T192136
CREATED:20180423T213054Z
LAST-MODIFIED:20180423T213054Z
UID:3142-1531504800-1531519200@silvercreekgolfcourse.com
SUMMARY:Friday Night Fun Night
DESCRIPTION:Registration Starting at 6pm \nShot Gun Start at 7:00pm \nCome out and enjoy a 9 Hole Round of golf. Open to members and public players\, hole prizes and door prizes! \nWalking Rate: $20.00 per person \nRate with Cart: $30.00 per person \nWeekly Registration Fee: $5.00
URL:https://silvercreekgolfcourse.com/event/friday-night-fun-night-10/
END:VEVENT
BEGIN:VEVENT
DTSTART;TZID=America/Edmonton:20180711T180000
DTEND;TZID=America/Edmonton:20180711T220000
DTSTAMP:20260422T192136
CREATED:20180420T165721Z
LAST-MODIFIED:20180420T165721Z
UID:3096-1531332000-1531346400@silvercreekgolfcourse.com
SUMMARY:Men's Night
DESCRIPTION:Registration Starting at 6pm \nShot Gun Start at 6:30pm \nCome out and enjoy a 9 Hole Round of golf. Open to members and public players\, hole prizes and door prizes! \nWalking Rate: $20.00 per person \nRate with Cart: $30.00 per person \nWeekly Registration Fee: $10.00
URL:https://silvercreekgolfcourse.com/event/mens-night-10/
END:VEVENT
BEGIN:VEVENT
DTSTART;TZID=America/Edmonton:20180711T090000
DTEND;TZID=America/Edmonton:20180711T120000
DTSTAMP:20260422T192136
CREATED:20180420T184714Z
LAST-MODIFIED:20180420T184714Z
UID:3117-1531299600-1531310400@silvercreekgolfcourse.com
SUMMARY:Senior's Morning
DESCRIPTION:Registration Starting at 9:00am \nShot Gun Start at 9:30am \nCome out and enjoy a 9 Hole Round of golf. Open to members and public players\, hole prizes and door prizes! \nWalking Rate: $20.00 per person \nRate with Cart: $30.00 per person \nWeekly Registration Fee: $5.00
URL:https://silvercreekgolfcourse.com/event/seniors-morning-10/
END:VEVENT
BEGIN:VEVENT
DTSTART;TZID=America/Edmonton:20180710T180000
DTEND;TZID=America/Edmonton:20180710T220000
DTSTAMP:20260422T192136
CREATED:20180420T170103Z
LAST-MODIFIED:20180420T170103Z
UID:3105-1531245600-1531260000@silvercreekgolfcourse.com
SUMMARY:Ladies Night
DESCRIPTION:Registration Starting at 6pm \nShot Gun Start at 6:30pm \nCome out and enjoy a 9 Hole Round of golf. Open to members and public players\, hole prizes and door prizes! \nWalking Rate: $20.00 per person \nRate with Cart: $30.00 per person \nWeekly Registration Fee: $5.00
URL:https://silvercreekgolfcourse.com/event/ladies-night-10/
END:VEVENT
BEGIN:VEVENT
DTSTART;VALUE=DATE:20180707
DTEND;VALUE=DATE:20180708
DTSTAMP:20260422T192136
CREATED:20180413T005423Z
LAST-MODIFIED:20180413T191006Z
UID:2922-1530921600-1531007999@silvercreekgolfcourse.com
SUMMARY:Ladies Open
DESCRIPTION:Members : \nNon-Members: \n 
URL:https://silvercreekgolfcourse.com/event/ladies-open/
END:VEVENT
BEGIN:VEVENT
DTSTART;TZID=America/Edmonton:20180706T180000
DTEND;TZID=America/Edmonton:20180706T220000
DTSTAMP:20260422T192136
CREATED:20180423T213004Z
LAST-MODIFIED:20180423T213004Z
UID:3140-1530900000-1530914400@silvercreekgolfcourse.com
SUMMARY:Friday Night Fun Night
DESCRIPTION:Registration Starting at 6pm \nShot Gun Start at 7:00pm \nCome out and enjoy a 9 Hole Round of golf. Open to members and public players\, hole prizes and door prizes! \nWalking Rate: $20.00 per person \nRate with Cart: $30.00 per person \nWeekly Registration Fee: $5.00
URL:https://silvercreekgolfcourse.com/event/friday-night-fun-night-9/
END:VEVENT
BEGIN:VEVENT
DTSTART;TZID=America/Edmonton:20180704T180000
DTEND;TZID=America/Edmonton:20180704T220000
DTSTAMP:20260422T192136
CREATED:20180420T165527Z
LAST-MODIFIED:20180420T165527Z
UID:3094-1530727200-1530741600@silvercreekgolfcourse.com
SUMMARY:Men's Night
DESCRIPTION:Registration Starting at 6pm \nShot Gun Start at 6:30pm \nCome out and enjoy a 9 Hole Round of golf. Open to members and public players\, hole prizes and door prizes! \nWalking Rate: $20.00 per person \nRate with Cart: $30.00 per person \nWeekly Registration Fee: $10.00
URL:https://silvercreekgolfcourse.com/event/mens-night-9/
END:VEVENT
BEGIN:VEVENT
DTSTART;TZID=America/Edmonton:20180704T090000
DTEND;TZID=America/Edmonton:20180704T120000
DTSTAMP:20260422T192136
CREATED:20180420T170335Z
LAST-MODIFIED:20180420T170335Z
UID:3113-1530694800-1530705600@silvercreekgolfcourse.com
SUMMARY:Senior's Morning
DESCRIPTION:Registration Starting at 9:00am \nShot Gun Start at 9:30am \nCome out and enjoy a 9 Hole Round of golf. Open to members and public players\, hole prizes and door prizes! \nWalking Rate: $20.00 per person \nRate with Cart: $30.00 per person \nWeekly Registration Fee: $5.00
URL:https://silvercreekgolfcourse.com/event/seniors-morning-8/
END:VEVENT
BEGIN:VEVENT
DTSTART;TZID=America/Edmonton:20180703T180000
DTEND;TZID=America/Edmonton:20180703T220000
DTSTAMP:20260422T192136
CREATED:20180420T170032Z
LAST-MODIFIED:20180420T170032Z
UID:3103-1530640800-1530655200@silvercreekgolfcourse.com
SUMMARY:Ladies Night
DESCRIPTION:Registration Starting at 6pm \nShot Gun Start at 6:30pm \nCome out and enjoy a 9 Hole Round of golf. Open to members and public players\, hole prizes and door prizes! \nWalking Rate: $20.00 per person \nRate with Cart: $30.00 per person \nWeekly Registration Fee: $5.00
URL:https://silvercreekgolfcourse.com/event/ladies-night-9/
END:VEVENT
BEGIN:VEVENT
DTSTART;TZID=America/Edmonton:20180629T180000
DTEND;TZID=America/Edmonton:20180629T220000
DTSTAMP:20260422T192136
CREATED:20180423T212918Z
LAST-MODIFIED:20180423T212918Z
UID:3138-1530295200-1530309600@silvercreekgolfcourse.com
SUMMARY:Friday Night Fun Night
DESCRIPTION:Registration Starting at 6pm \nShot Gun Start at 7:00pm \nCome out and enjoy a 9 Hole Round of golf. Open to members and public players\, hole prizes and door prizes! \nWalking Rate: $20.00 per person \nRate with Cart: $30.00 per person \nWeekly Registration Fee: $5.00
URL:https://silvercreekgolfcourse.com/event/friday-night-fun-night-8/
END:VEVENT
BEGIN:VEVENT
DTSTART;TZID=America/Edmonton:20180627T180000
DTEND;TZID=America/Edmonton:20180627T220000
DTSTAMP:20260422T192136
CREATED:20180420T162922Z
LAST-MODIFIED:20180420T162922Z
UID:3045-1530122400-1530136800@silvercreekgolfcourse.com
SUMMARY:Men's Night
DESCRIPTION:Steak Night: You must preregister for a meal ticket \nRegistration Starting at 6pm \nShot Gun Start at 6:30pm \nCome out and enjoy a 9 Hole Round of golf. Open to members and public players\, hole prizes and door prizes! \nWalking Rate: $20.00 per person \nRate with Cart: $30.00 per person \nWeekly Registration Fee: $10.00
URL:https://silvercreekgolfcourse.com/event/mens-night-8/
END:VEVENT
BEGIN:VEVENT
DTSTART;TZID=America/Edmonton:20180627T090000
DTEND;TZID=America/Edmonton:20180627T120000
DTSTAMP:20260422T192136
CREATED:20180420T163322Z
LAST-MODIFIED:20180420T163411Z
UID:3057-1530090000-1530100800@silvercreekgolfcourse.com
SUMMARY:Senior's Morning
DESCRIPTION:Registration Starting at 9:00am \nShot Gun Start at 9:30am \nCome out and enjoy a 9 Hole Round of golf. Open to members and public players\, hole prizes and door prizes! \nWalking Rate: $20.00 per person \nRate with Cart: $30.00 per person \nWeekly Registration Fee: $5.00
URL:https://silvercreekgolfcourse.com/event/seniors-morning-5/
END:VEVENT
BEGIN:VEVENT
DTSTART;TZID=America/Edmonton:20180626T180000
DTEND;TZID=America/Edmonton:20180626T220000
DTSTAMP:20260422T192136
CREATED:20180420T163139Z
LAST-MODIFIED:20180420T163139Z
UID:3053-1530036000-1530050400@silvercreekgolfcourse.com
SUMMARY:Ladies Night
DESCRIPTION:Registration Starting at 6pm \nShot Gun Start at 6:30pm \nCome out and enjoy a 9 Hole Round of golf. Open to members and public players\, hole prizes and door prizes! \nWalking Rate: $20.00 per person \nRate with Cart: $30.00 per person \nWeekly Registration Fee: $5.00
URL:https://silvercreekgolfcourse.com/event/ladies-night-8/
END:VEVENT
BEGIN:VEVENT
DTSTART;TZID=America/Edmonton:20180625T150000
DTEND;TZID=America/Edmonton:20180625T180000
DTSTAMP:20260422T192136
CREATED:20180608T173334Z
LAST-MODIFIED:20180608T173334Z
UID:3231-1529938800-1529949600@silvercreekgolfcourse.com
SUMMARY:Meridian MFG
DESCRIPTION:9 Hole Tournament \nShotgun Start \n3:00pm \n50 people
URL:https://silvercreekgolfcourse.com/event/meridian-mfg/
END:VEVENT
END:VCALENDAR