BEGIN:VCALENDAR
VERSION:2.0
PRODID:-//Silver Creek Golf &amp; RV Resort - ECPv6.15.20//NONSGML v1.0//EN
CALSCALE:GREGORIAN
METHOD:PUBLISH
X-WR-CALNAME:Silver Creek Golf &amp; RV Resort
X-ORIGINAL-URL:https://silvercreekgolfcourse.com
X-WR-CALDESC:Events for Silver Creek Golf &amp; RV Resort
REFRESH-INTERVAL;VALUE=DURATION:PT1H
X-Robots-Tag:noindex
X-PUBLISHED-TTL:PT1H
BEGIN:VTIMEZONE
TZID:America/Edmonton
BEGIN:DAYLIGHT
TZOFFSETFROM:-0700
TZOFFSETTO:-0600
TZNAME:MDT
DTSTART:20170312T090000
END:DAYLIGHT
BEGIN:STANDARD
TZOFFSETFROM:-0600
TZOFFSETTO:-0700
TZNAME:MST
DTSTART:20171105T080000
END:STANDARD
BEGIN:DAYLIGHT
TZOFFSETFROM:-0700
TZOFFSETTO:-0600
TZNAME:MDT
DTSTART:20180311T090000
END:DAYLIGHT
BEGIN:STANDARD
TZOFFSETFROM:-0600
TZOFFSETTO:-0700
TZNAME:MST
DTSTART:20181104T080000
END:STANDARD
BEGIN:DAYLIGHT
TZOFFSETFROM:-0700
TZOFFSETTO:-0600
TZNAME:MDT
DTSTART:20190310T090000
END:DAYLIGHT
BEGIN:STANDARD
TZOFFSETFROM:-0600
TZOFFSETTO:-0700
TZNAME:MST
DTSTART:20191103T080000
END:STANDARD
BEGIN:DAYLIGHT
TZOFFSETFROM:-0700
TZOFFSETTO:-0600
TZNAME:MDT
DTSTART:20200308T090000
END:DAYLIGHT
BEGIN:STANDARD
TZOFFSETFROM:-0600
TZOFFSETTO:-0700
TZNAME:MST
DTSTART:20201101T080000
END:STANDARD
END:VTIMEZONE
BEGIN:VEVENT
DTSTART;TZID=America/Edmonton:20190608T090000
DTEND;TZID=America/Edmonton:20190608T170000
DTSTAMP:20260422T165759
CREATED:20190523T173814Z
LAST-MODIFIED:20190523T173858Z
UID:3668-1559984400-1560013200@silvercreekgolfcourse.com
SUMMARY:Tee-Time Groups
DESCRIPTION:Donnan Stag – 40ppl \nMartin Stag – 20ppl \nMillwoods Church -40ppl \nIves Group – 20ppl
URL:https://silvercreekgolfcourse.com/event/tee-time-groups/
END:VEVENT
BEGIN:VEVENT
DTSTART;TZID=America/Edmonton:20190607T180000
DTEND;TZID=America/Edmonton:20190607T213000
DTSTAMP:20260422T165759
CREATED:20190523T170949Z
LAST-MODIFIED:20190523T170949Z
UID:3602-1559930400-1559943000@silvercreekgolfcourse.com
SUMMARY:Friday Night Fun Night
DESCRIPTION:Registration Starting at 6pm \nShot Gun Start at 7:00pm \nCome out and enjoy a 9 Hole Round of golf. Open to members and public players\, hole prizes and door prizes! \nWalking Rate: $20.00 per person \nRate with Cart: $30.00 per person \nWeekly Registration Fee: $5.00
URL:https://silvercreekgolfcourse.com/event/friday-night-fun-night-20/
END:VEVENT
BEGIN:VEVENT
DTSTART;TZID=America/Edmonton:20190607T123000
DTEND;TZID=America/Edmonton:20190607T180000
DTSTAMP:20260422T165759
CREATED:20190523T172118Z
LAST-MODIFIED:20190523T172118Z
UID:3632-1559910600-1559930400@silvercreekgolfcourse.com
SUMMARY:EMCO Tournament
DESCRIPTION:100 Golfers \n12:30pm Shotgun \n18 Holes
URL:https://silvercreekgolfcourse.com/event/emco-tournament/
END:VEVENT
BEGIN:VEVENT
DTSTART;TZID=America/Edmonton:20190606T170000
DTEND;TZID=America/Edmonton:20190606T190000
DTSTAMP:20260422T165759
CREATED:20190523T172655Z
LAST-MODIFIED:20190523T172655Z
UID:3642-1559840400-1559847600@silvercreekgolfcourse.com
SUMMARY:Battle River Gas
DESCRIPTION:20 Golfers \n5:00pm \n9 Holes
URL:https://silvercreekgolfcourse.com/event/battle-river-gas/
END:VEVENT
BEGIN:VEVENT
DTSTART;TZID=America/Edmonton:20190605T180000
DTEND;TZID=America/Edmonton:20190605T210000
DTSTAMP:20260422T165759
CREATED:20190523T164642Z
LAST-MODIFIED:20190523T164642Z
UID:3543-1559757600-1559768400@silvercreekgolfcourse.com
SUMMARY:Men's Night
DESCRIPTION:  \nRegistration Starting at 6pm \nShot Gun Start at 6:30pm \nCome out and enjoy a 9 Hole Round of golf. Open to members and public players\, hole prizes and door prizes! \nWalking Rate: $20.00 per person \nRate with Cart: $30.00 per person \nWeekly Registration Fee: $10.00
URL:https://silvercreekgolfcourse.com/event/mens-night-19/
END:VEVENT
BEGIN:VEVENT
DTSTART;TZID=America/Edmonton:20190605T090000
DTEND;TZID=America/Edmonton:20190605T120000
DTSTAMP:20260422T165759
CREATED:20190523T165949Z
LAST-MODIFIED:20190523T165949Z
UID:3572-1559725200-1559736000@silvercreekgolfcourse.com
SUMMARY:Seniors Morning
DESCRIPTION:Registration Starting at 9:00am \nShot Gun Start at 9:30am \nCome out and enjoy a 9 Hole Round of golf. Open to members and public players\, hole prizes and door prizes! \nWalking Rate: $20.00 per person \nRate with Cart: $30.00 per person \nWeekly Registration Fee: $5 .00
URL:https://silvercreekgolfcourse.com/event/seniors-morning-18/
END:VEVENT
BEGIN:VEVENT
DTSTART;TZID=America/Edmonton:20190604T180000
DTEND;TZID=America/Edmonton:20190604T210000
DTSTAMP:20260422T165759
CREATED:20190521T202739Z
LAST-MODIFIED:20190521T202739Z
UID:3517-1559671200-1559682000@silvercreekgolfcourse.com
SUMMARY:Ladies Night
DESCRIPTION:Registration Starting at 6pm \nShot Gun Start at 6:30pm \nCome out and enjoy a 9 Hole Round of golf. Open to members and public players\, hole prizes and door prizes! \nWalking Rate: $20.00 per person \nRate with Cart: $30.00 per person \nWeekly Registration Fee: $5.00
URL:https://silvercreekgolfcourse.com/event/ladies-night-20/
END:VEVENT
BEGIN:VEVENT
DTSTART;TZID=America/Edmonton:20190603T080000
DTEND;TZID=America/Edmonton:20190603T170000
DTSTAMP:20260422T165759
CREATED:20190530T171816Z
LAST-MODIFIED:20190530T171816Z
UID:3679-1559548800-1559581200@silvercreekgolfcourse.com
SUMMARY:NASA - Men
DESCRIPTION:Two Double Crossovers \n200 Golfers \n8:30am and 1:00pm
URL:https://silvercreekgolfcourse.com/event/nasa-men-2/
END:VEVENT
BEGIN:VEVENT
DTSTART;TZID=America/Edmonton:20190601T090000
DTEND;TZID=America/Edmonton:20190601T170000
DTSTAMP:20260422T165759
CREATED:20190523T173700Z
LAST-MODIFIED:20190523T173700Z
UID:3666-1559379600-1559408400@silvercreekgolfcourse.com
SUMMARY:BRC
DESCRIPTION:
URL:https://silvercreekgolfcourse.com/event/brc-5/
END:VEVENT
BEGIN:VEVENT
DTSTART;TZID=America/Edmonton:20190531T180000
DTEND;TZID=America/Edmonton:20190531T213000
DTSTAMP:20260422T165759
CREATED:20190523T170916Z
LAST-MODIFIED:20190523T170916Z
UID:3600-1559325600-1559338200@silvercreekgolfcourse.com
SUMMARY:Friday Night Fun Night
DESCRIPTION:Registration Starting at 6pm \nShot Gun Start at 7:00pm \nCome out and enjoy a 9 Hole Round of golf. Open to members and public players\, hole prizes and door prizes! \nWalking Rate: $20.00 per person \nRate with Cart: $30.00 per person \nWeekly Registration Fee: $5.00
URL:https://silvercreekgolfcourse.com/event/friday-night-fun-night-19/
END:VEVENT
BEGIN:VEVENT
DTSTART;TZID=America/Edmonton:20190531T090000
DTEND;TZID=America/Edmonton:20190531T170000
DTSTAMP:20260422T165759
CREATED:20190523T173633Z
LAST-MODIFIED:20190523T173633Z
UID:3664-1559293200-1559322000@silvercreekgolfcourse.com
SUMMARY:BRC
DESCRIPTION:
URL:https://silvercreekgolfcourse.com/event/brc-4/
END:VEVENT
BEGIN:VEVENT
DTSTART;TZID=America/Edmonton:20190529T180000
DTEND;TZID=America/Edmonton:20190529T210000
DTSTAMP:20260422T165759
CREATED:20190523T164609Z
LAST-MODIFIED:20190523T164609Z
UID:3541-1559152800-1559163600@silvercreekgolfcourse.com
SUMMARY:Men's Night
DESCRIPTION:Steak Night: You must preregister for your meal ticket \nRegistration Starting at 6pm \nShot Gun Start at 6:30pm \nCome out and enjoy a 9 Hole Round of golf. Open to members and public players\, hole prizes and door prizes! \nWalking Rate: $20.00 per person \nRate with Cart: $30.00 per person \nWeekly Registration Fee: $10.00
URL:https://silvercreekgolfcourse.com/event/mens-night-18/
END:VEVENT
BEGIN:VEVENT
DTSTART;TZID=America/Edmonton:20190529T090000
DTEND;TZID=America/Edmonton:20190529T120000
DTSTAMP:20260422T165759
CREATED:20190523T165917Z
LAST-MODIFIED:20190523T165917Z
UID:3570-1559120400-1559131200@silvercreekgolfcourse.com
SUMMARY:Seniors Morning
DESCRIPTION:Registration Starting at 9:00am \nShot Gun Start at 9:30am \nCome out and enjoy a 9 Hole Round of golf. Open to members and public players\, hole prizes and door prizes! \nWalking Rate: $20.00 per person \nRate with Cart: $30.00 per person \nWeekly Registration Fee: $5 .00
URL:https://silvercreekgolfcourse.com/event/seniors-morning-17/
END:VEVENT
BEGIN:VEVENT
DTSTART;TZID=America/Edmonton:20190528T180000
DTEND;TZID=America/Edmonton:20190528T210000
DTSTAMP:20260422T165759
CREATED:20190521T202708Z
LAST-MODIFIED:20190521T202708Z
UID:3515-1559066400-1559077200@silvercreekgolfcourse.com
SUMMARY:Ladies Night
DESCRIPTION:Registration Starting at 6pm \nShot Gun Start at 6:30pm \nCome out and enjoy a 9 Hole Round of golf. Open to members and public players\, hole prizes and door prizes! \nWalking Rate: $20.00 per person \nRate with Cart: $30.00 per person \nWeekly Registration Fee: $5.00
URL:https://silvercreekgolfcourse.com/event/ladies-night-19/
END:VEVENT
BEGIN:VEVENT
DTSTART;TZID=America/Edmonton:20190525T110000
DTEND;TZID=America/Edmonton:20190525T140000
DTSTAMP:20260422T165759
CREATED:20190523T171855Z
LAST-MODIFIED:20190523T171855Z
UID:3628-1558782000-1558792800@silvercreekgolfcourse.com
SUMMARY:Ken & Dot Memorial
DESCRIPTION:40 Golfers \n9Holes \nShotgun @11:00am
URL:https://silvercreekgolfcourse.com/event/ken-dot-memorial/
END:VEVENT
BEGIN:VEVENT
DTSTART;TZID=America/Edmonton:20190524T180000
DTEND;TZID=America/Edmonton:20190524T213000
DTSTAMP:20260422T165759
CREATED:20190523T170847Z
LAST-MODIFIED:20190523T170847Z
UID:3598-1558720800-1558733400@silvercreekgolfcourse.com
SUMMARY:Friday Night Fun Night
DESCRIPTION:Registration Starting at 6pm \nShot Gun Start at 7:00pm \nCome out and enjoy a 9 Hole Round of golf. Open to members and public players\, hole prizes and door prizes! \nWalking Rate: $20.00 per person \nRate with Cart: $30.00 per person \nWeekly Registration Fee: $5.00
URL:https://silvercreekgolfcourse.com/event/friday-night-fun-night-18/
END:VEVENT
BEGIN:VEVENT
DTSTART;TZID=America/Edmonton:20190521T180000
DTEND;TZID=America/Edmonton:20190521T210000
DTSTAMP:20260422T165759
CREATED:20190521T202633Z
LAST-MODIFIED:20190521T202633Z
UID:3513-1558461600-1558472400@silvercreekgolfcourse.com
SUMMARY:Ladies Night
DESCRIPTION:Registration Starting at 6pm \nShot Gun Start at 6:30pm \nCome out and enjoy a 9 Hole Round of golf. Open to members and public players\, hole prizes and door prizes! \nWalking Rate: $20.00 per person \nRate with Cart: $30.00 per person \nWeekly Registration Fee: $5.00
URL:https://silvercreekgolfcourse.com/event/ladies-night-18/
END:VEVENT
BEGIN:VEVENT
DTSTART;VALUE=DATE:20180929
DTEND;VALUE=DATE:20180930
DTSTAMP:20260422T165759
CREATED:20180413T005538Z
LAST-MODIFIED:20180915T152309Z
UID:2926-1538179200-1538265599@silvercreekgolfcourse.com
SUMMARY:Club Championships
DESCRIPTION:
URL:https://silvercreekgolfcourse.com/event/club-championships/
END:VEVENT
BEGIN:VEVENT
DTSTART;TZID=America/Edmonton:20180922T080000
DTEND;TZID=America/Edmonton:20180922T170000
DTSTAMP:20260422T165759
CREATED:20180824T201725Z
LAST-MODIFIED:20180824T201725Z
UID:3308-1537603200-1537635600@silvercreekgolfcourse.com
SUMMARY:Member's Tournament
DESCRIPTION:Silver Creek Member’s Tournament \nShot Gun starting @ TBD \n144+ Golfers
URL:https://silvercreekgolfcourse.com/event/members-tournament/
END:VEVENT
BEGIN:VEVENT
DTSTART;TZID=America/Edmonton:20180910T100000
DTEND;TZID=America/Edmonton:20180910T170000
DTSTAMP:20260422T165759
CREATED:20180824T201515Z
LAST-MODIFIED:20180824T201515Z
UID:3304-1536573600-1536598800@silvercreekgolfcourse.com
SUMMARY:CPA
DESCRIPTION:Camrose Police Association Tournament \n144 golfers \nShotgun Start @10:00am
URL:https://silvercreekgolfcourse.com/event/cpa/
END:VEVENT
BEGIN:VEVENT
DTSTART;TZID=America/Edmonton:20180831T180000
DTEND;TZID=America/Edmonton:20180831T220000
DTSTAMP:20260422T165759
CREATED:20180423T213845Z
LAST-MODIFIED:20180423T213845Z
UID:3156-1535738400-1535752800@silvercreekgolfcourse.com
SUMMARY:Friday Night Fun Night
DESCRIPTION:Registration Starting at 6pm \nShot Gun Start at 7:00pm \nCome out and enjoy a 9 Hole Round of golf. Open to members and public players\, hole prizes and door prizes! \nWalking Rate: $20.00 per person \nRate with Cart: $30.00 per person \nWeekly Registration Fee: $5.00
URL:https://silvercreekgolfcourse.com/event/friday-night-fun-night-17/
END:VEVENT
BEGIN:VEVENT
DTSTART;TZID=America/Edmonton:20180829T180000
DTEND;TZID=America/Edmonton:20180829T220000
DTSTAMP:20260422T165759
CREATED:20180423T214905Z
LAST-MODIFIED:20180423T214905Z
UID:3174-1535565600-1535580000@silvercreekgolfcourse.com
SUMMARY:Men's Night
DESCRIPTION:Steak Night: You must preregister for your meal ticket \nRegistration Starting at 6pm \nShot Gun Start at 6:30pm \nCome out and enjoy a 9 Hole Round of golf. Open to members and public players\, hole prizes and door prizes! \nWalking Rate: $20.00 per person \nRate with Cart: $30.00 per person \nWeekly Registration Fee: $10.00
URL:https://silvercreekgolfcourse.com/event/mens-night-17/
END:VEVENT
BEGIN:VEVENT
DTSTART;TZID=America/Edmonton:20180829T090000
DTEND;TZID=America/Edmonton:20180829T120000
DTSTAMP:20260422T165759
CREATED:20180423T215228Z
LAST-MODIFIED:20180423T215228Z
UID:3184-1535533200-1535544000@silvercreekgolfcourse.com
SUMMARY:Seniors Morning
DESCRIPTION:Registration Starting at 9:00am \nShot Gun Start at 9:30am \nCome out and enjoy a 9 Hole Round of golf. Open to members and public players\, hole prizes and door prizes! \nWalking Rate: $20.00 per person \nRate with Cart: $30.00 per person \nWeekly Registration Fee: $5 .00
URL:https://silvercreekgolfcourse.com/event/seniors-morning-16/
END:VEVENT
BEGIN:VEVENT
DTSTART;TZID=America/Edmonton:20180828T080000
DTEND;TZID=America/Edmonton:20180828T170000
DTSTAMP:20260422T165759
CREATED:20180423T214354Z
LAST-MODIFIED:20180423T214354Z
UID:3164-1535443200-1535475600@silvercreekgolfcourse.com
SUMMARY:Ladies Night
DESCRIPTION:Registration Starting at 6pm \nShot Gun Start at 6:30pm \nCome out and enjoy a 9 Hole Round of golf. Open to members and public players\, hole prizes and door prizes! \nWalking Rate: $20.00 per person \nRate with Cart: $30.00 per person \nWeekly Registration Fee: $5.00
URL:https://silvercreekgolfcourse.com/event/ladies-night-17/
END:VEVENT
BEGIN:VEVENT
DTSTART;TZID=America/Edmonton:20180824T180000
DTEND;TZID=America/Edmonton:20180824T220000
DTSTAMP:20260422T165759
CREATED:20180423T213714Z
LAST-MODIFIED:20180423T213714Z
UID:3154-1535133600-1535148000@silvercreekgolfcourse.com
SUMMARY:Friday Night Fun Night
DESCRIPTION:Registration Starting at 6pm \nShot Gun Start at 7:00pm \nCome out and enjoy a 9 Hole Round of golf. Open to members and public players\, hole prizes and door prizes! \nWalking Rate: $20.00 per person \nRate with Cart: $30.00 per person \nWeekly Registration Fee: $5.00
URL:https://silvercreekgolfcourse.com/event/friday-night-fun-night-16/
END:VEVENT
BEGIN:VEVENT
DTSTART;TZID=America/Edmonton:20180822T180000
DTEND;TZID=America/Edmonton:20180822T220000
DTSTAMP:20260422T165759
CREATED:20180423T214659Z
LAST-MODIFIED:20180423T214659Z
UID:3172-1534960800-1534975200@silvercreekgolfcourse.com
SUMMARY:Men's Night
DESCRIPTION:Registration Starting at 6pm \nShot Gun Start at 6:30pm \nCome out and enjoy a 9 Hole Round of golf. Open to members and public players\, hole prizes and door prizes! \nWalking Rate: $20.00 per person \nRate with Cart: $30.00 per person \nWeekly Registration Fee: $10.00
URL:https://silvercreekgolfcourse.com/event/mens-night-16/
END:VEVENT
BEGIN:VEVENT
DTSTART;TZID=America/Edmonton:20180822T090000
DTEND;TZID=America/Edmonton:20180822T120000
DTSTAMP:20260422T165759
CREATED:20180423T215204Z
LAST-MODIFIED:20180423T215204Z
UID:3182-1534928400-1534939200@silvercreekgolfcourse.com
SUMMARY:Seniors Morning
DESCRIPTION:Registration Starting at 9:00am \nShot Gun Start at 9:30am \nCome out and enjoy a 9 Hole Round of golf. Open to members and public players\, hole prizes and door prizes! \nWalking Rate: $20.00 per person \nRate with Cart: $30.00 per person \nWeekly Registration Fee: $5 .00
URL:https://silvercreekgolfcourse.com/event/seniors-morning-15/
END:VEVENT
BEGIN:VEVENT
DTSTART;TZID=America/Edmonton:20180821T180000
DTEND;TZID=America/Edmonton:20180821T220000
DTSTAMP:20260422T165759
CREATED:20180423T214250Z
LAST-MODIFIED:20180423T214250Z
UID:3162-1534874400-1534888800@silvercreekgolfcourse.com
SUMMARY:Ladies Night
DESCRIPTION:Registration Starting at 6pm \nShot Gun Start at 6:30pm \nCome out and enjoy a 9 Hole Round of golf. Open to members and public players\, hole prizes and door prizes! \nWalking Rate: $20.00 per person \nRate with Cart: $30.00 per person \nWeekly Registration Fee: $5.00
URL:https://silvercreekgolfcourse.com/event/ladies-night-16/
END:VEVENT
BEGIN:VEVENT
DTSTART;TZID=America/Edmonton:20180817T180000
DTEND;TZID=America/Edmonton:20180817T220000
DTSTAMP:20260422T165759
CREATED:20180423T213646Z
LAST-MODIFIED:20180423T213646Z
UID:3152-1534528800-1534543200@silvercreekgolfcourse.com
SUMMARY:Friday Night Fun Night
DESCRIPTION:Registration Starting at 6pm \nShot Gun Start at 7:00pm \nCome out and enjoy a 9 Hole Round of golf. Open to members and public players\, hole prizes and door prizes! \nWalking Rate: $20.00 per person \nRate with Cart: $30.00 per person \nWeekly Registration Fee: $5.00
URL:https://silvercreekgolfcourse.com/event/friday-night-fun-night-15/
END:VEVENT
BEGIN:VEVENT
DTSTART;TZID=America/Edmonton:20180815T180000
DTEND;TZID=America/Edmonton:20180815T220000
DTSTAMP:20260422T165759
CREATED:20180423T214614Z
LAST-MODIFIED:20180423T214614Z
UID:3170-1534356000-1534370400@silvercreekgolfcourse.com
SUMMARY:Men's Night
DESCRIPTION:Registration Starting at 6pm \nShot Gun Start at 6:30pm \nCome out and enjoy a 9 Hole Round of golf. Open to members and public players\, hole prizes and door prizes! \nWalking Rate: $20.00 per person \nRate with Cart: $30.00 per person \nWeekly Registration Fee: $10.00
URL:https://silvercreekgolfcourse.com/event/mens-night-15/
END:VEVENT
END:VCALENDAR