BEGIN:VCALENDAR
VERSION:2.0
PRODID:-//Silver Creek Golf &amp; RV Resort - ECPv6.15.20//NONSGML v1.0//EN
CALSCALE:GREGORIAN
METHOD:PUBLISH
X-WR-CALNAME:Silver Creek Golf &amp; RV Resort
X-ORIGINAL-URL:https://silvercreekgolfcourse.com
X-WR-CALDESC:Events for Silver Creek Golf &amp; RV Resort
REFRESH-INTERVAL;VALUE=DURATION:PT1H
X-Robots-Tag:noindex
X-PUBLISHED-TTL:PT1H
BEGIN:VTIMEZONE
TZID:America/Edmonton
BEGIN:DAYLIGHT
TZOFFSETFROM:-0700
TZOFFSETTO:-0600
TZNAME:MDT
DTSTART:20230312T090000
END:DAYLIGHT
BEGIN:STANDARD
TZOFFSETFROM:-0600
TZOFFSETTO:-0700
TZNAME:MST
DTSTART:20231105T080000
END:STANDARD
BEGIN:DAYLIGHT
TZOFFSETFROM:-0700
TZOFFSETTO:-0600
TZNAME:MDT
DTSTART:20240310T090000
END:DAYLIGHT
BEGIN:STANDARD
TZOFFSETFROM:-0600
TZOFFSETTO:-0700
TZNAME:MST
DTSTART:20241103T080000
END:STANDARD
BEGIN:DAYLIGHT
TZOFFSETFROM:-0700
TZOFFSETTO:-0600
TZNAME:MDT
DTSTART:20250309T090000
END:DAYLIGHT
BEGIN:STANDARD
TZOFFSETFROM:-0600
TZOFFSETTO:-0700
TZNAME:MST
DTSTART:20251102T080000
END:STANDARD
END:VTIMEZONE
BEGIN:VEVENT
DTSTART;TZID=America/Edmonton:20240529T090000
DTEND;TZID=America/Edmonton:20240529T120000
DTSTAMP:20260421T024954
CREATED:20240216T165233Z
LAST-MODIFIED:20240508T162341Z
UID:5335-1716973200-1716984000@silvercreekgolfcourse.com
SUMMARY:Seniors Morning
DESCRIPTION:Registration Starting at 9:00am \nShot Gun Start at 9:30am \nCome out and enjoy a 9 Hole Round of golf. Open to members and public players\, hole prizes and door prizes! \nWalking Rate: $20.00 per person \nRate with Cart: $30.00 per person \nWeekly Registration Fee: $10 .00
URL:https://silvercreekgolfcourse.com/event/seniors-morning-34/
END:VEVENT
BEGIN:VEVENT
DTSTART;TZID=America/Edmonton:20240529T180000
DTEND;TZID=America/Edmonton:20240529T210000
DTSTAMP:20260421T024954
CREATED:20240216T165014Z
LAST-MODIFIED:20240216T165014Z
UID:5327-1717005600-1717016400@silvercreekgolfcourse.com
SUMMARY:Ladies Night
DESCRIPTION:Registration Starting at 6pm \nShot Gun Start at 6:30pm \nCome out and enjoy a 9 Hole Round of golf. Open to members and public players\, hole prizes and door prizes! \nWalking Rate: $20.00 per person \nRate with Cart: $30.00 per person \nWeekly Registration Fee: $10.00
URL:https://silvercreekgolfcourse.com/event/ladies-night-34/
END:VEVENT
END:VCALENDAR